BEGIN:VCALENDAR
VERSION:2.0
PRODID:-//ChamberMaster//Event Calendar 2.0//EN
METHOD:PUBLISH
X-PUBLISHED-TTL:P3D
REFRESH-INTERVAL:P3D
CALSCALE:GREGORIAN
BEGIN:VEVENT
DTSTART:20130609T000000Z
DTEND:20130609T040000Z
X-MICROSOFT-CDO-ALLDAYEVENT:FALSE
SUMMARY:Blue Mountain Fiddle Show
DESCRIPTION:Blue Mountain Old Time Fiddlers Show includes fiddlers and other musicians showcasing their talents in Enterprise.  A pork loin dinner begins at 5:00pm and the music begins at 6:00pm.
X-ALT-DESC;FMTTYPE=text/html:Blue Mountain Old Time Fiddlers Show includes fiddlers and other musicians showcasing their talents in Enterprise.&nbsp\; A pork loin dinner begins at 5:00pm and the music begins at 6:00pm.&nbsp\; 
LOCATION:Cloverleaf Hall\, Enterprise
UID:e.1631.77
SEQUENCE:3
DTSTAMP:20260419T134926Z
URL:https://business.wallowacountychamber.com/events/details/blue-mountain-fiddle-show-06-08-2013-77
END:VEVENT

END:VCALENDAR
