BEGIN:VCALENDAR
VERSION:2.0
PRODID:-//ChamberMaster//Event Calendar 2.0//EN
METHOD:PUBLISH
X-PUBLISHED-TTL:P3D
REFRESH-INTERVAL:P3D
CALSCALE:GREGORIAN
BEGIN:VEVENT
DTSTART:20130303T010000Z
DTEND:20130303T050000Z
X-MICROSOFT-CDO-ALLDAYEVENT:FALSE
SUMMARY:Blue Mountain Fiddle Show
DESCRIPTION:Blue Mountain Old Time Fiddlers Show includes fiddlers and musicians showcasing their talents.  Old-time fiddlers and lovers of old time fiddle music will gather at the Cloverleaf Hall in Enterprise. The event gets underway at 5pm with a roast beef dinner served up by Randy Garnett of Appleflat catering.  Music begins at 6pm.  Cost is $7.50 for dinner and $5 for the fiddle show.
X-ALT-DESC;FMTTYPE=text/html:Blue Mountain Old Time Fiddlers Show includes fiddlers and musicians showcasing their talents.&nbsp\; Old-time fiddlers and lovers of old time fiddle music will gather at the Cloverleaf Hall in Enterprise.&nbsp\;The event gets underway at 5pm with a roast beef dinner served up by Randy Garnett of Appleflat catering.&nbsp\; Music begins at 6pm.&nbsp\; Cost is $7.50 for dinner and $5 for the fiddle show.
LOCATION:Cloverleaf Hall\, Enterprise
UID:e.1631.90
SEQUENCE:3
DTSTAMP:20260419T202947Z
URL:https://business.wallowacountychamber.com/events/details/blue-mountain-fiddle-show-03-02-2013-90
END:VEVENT

END:VCALENDAR
