BEGIN:VCALENDAR
VERSION:2.0
PRODID:-//ChamberMaster//Event Calendar 2.0//EN
METHOD:PUBLISH
X-PUBLISHED-TTL:P3D
REFRESH-INTERVAL:P3D
CALSCALE:GREGORIAN
BEGIN:VEVENT
DTSTART:20130327T010000Z
DTEND:20130327T033000Z
X-MICROSOFT-CDO-ALLDAYEVENT:FALSE
SUMMARY:Bingo Night
DESCRIPTION:Bingo Night! will be held the 2nd and 4th Tuesday from January thru March at the Cloverleaf Hall in Enterprise from 6-8pm.  Bingo is sponsored by the Wallowa County fair board and proceeds will go to update the fairgrounds event message board.
X-ALT-DESC;FMTTYPE=text/html:<div style="color: gray\;">\n	<span style="text-decoration: none\; text-underline: none\;"><span style="font-family: arial\, sans-serif\;"><span style="font-size: medium\;">Bingo Night! will be held the 2nd and 4th Tuesday from January thru March at the Cloverleaf Hall in Enterprise from 6-8pm.&nbsp\;&nbsp\;Bingo is sponsored by the Wallowa County fair board and proceeds will go to update the fairgrounds event message board.</span></span></span><br />\n	&nbsp\;</div>\n
LOCATION:Cloverleaf Hall\, Enterprise
UID:e.1631.344
SEQUENCE:3
DTSTAMP:20260419T184947Z
URL:https://business.wallowacountychamber.com/events/details/bingo-night-03-26-2013-344
END:VEVENT

END:VCALENDAR
