BEGIN:VCALENDAR
VERSION:2.0
PRODID:-//ChamberMaster//Event Calendar 2.0//EN
METHOD:PUBLISH
X-PUBLISHED-TTL:P3D
REFRESH-INTERVAL:P3D
CALSCALE:GREGORIAN
BEGIN:VEVENT
DTSTART:20130215T180000Z
DTEND:20130219T010000Z
X-MICROSOFT-CDO-ALLDAYEVENT:FALSE
SUMMARY:Big February Sale - Lakeside Interiors
DESCRIPTION:Stop by Lakeside Interiors for our Big February sale.  Find special pricing throughout the shop as we make way for a new spring look!  Come shop\, taste some tea\, spin the wheel for special bargains. See you Friday\, Saturday and Monday at Lakeside Interiors. Not open on Sunday.
X-ALT-DESC;FMTTYPE=text/html:Stop by Lakeside Interiors for our Big February sale.&nbsp\; Find special pricing throughout the shop as we make way for a new spring look!&nbsp\; Come shop\, taste some tea\, spin the wheel for special bargains. See you Friday\, Saturday&nbsp\;and Monday at Lakeside Interiors. Not open on Sunday.
LOCATION:305 N. Main St.
UID:e.1631.548
SEQUENCE:3
DTSTAMP:20260419T221210Z
URL:https://business.wallowacountychamber.com/events/details/big-february-sale-lakeside-interiors-02-15-2013-548
END:VEVENT

END:VCALENDAR
