BEGIN:VCALENDAR
VERSION:2.0
PRODID:-//ChamberMaster//Event Calendar 2.0//EN
METHOD:PUBLISH
X-PUBLISHED-TTL:P3D
REFRESH-INTERVAL:P3D
CALSCALE:GREGORIAN
BEGIN:VEVENT
DTSTART:20130718T010000Z
DTEND:20130718T023000Z
X-MICROSOFT-CDO-ALLDAYEVENT:FALSE
SUMMARY:Basics of Going Solar Workshop
DESCRIPTION:Find out why solar is a smart choice for Oregon. We?ll discuss both solar electric and solar thermal technologies\, and the current financial incentives available to homeowners. For more information and to RSVP please visit solaroregon.org or email emily@solaroregon.org. This workshop is offered by Solar Oregon\, a 501(c)(3) non-profit organization leading the way to a clean energy future by demonstrating the successful use of solar energy in Oregon. Founded in 1979\, we serve as a connector and source of information for Oregon?s solar community.
X-ALT-DESC;FMTTYPE=text/html:Find out why solar is a smart choice for Oregon. We?ll discuss both solar electric and solar thermal technologies\, and the current financial incentives available to homeowners. For more information and to RSVP please visit solaroregon.org or email emily@solaroregon.org. This workshop is offered by Solar Oregon\, a 501(c)(3) non-profit organization leading the way to a clean energy future by demonstrating the successful use of solar energy in Oregon. Founded in 1979\, we serve as a connector and source of information for Oregon?s solar community. 
LOCATION:Wallowa County Chamber of Commerce Tomas Conference Rm\, 309 South River Street\, Suite B
UID:e.1631.4337
SEQUENCE:3
DTSTAMP:20260419T120603Z
URL:https://business.wallowacountychamber.com/events/details/basics-of-going-solar-workshop-07-17-2013-4337
END:VEVENT

END:VCALENDAR
