BEGIN:VCALENDAR
VERSION:2.0
PRODID:-//ChamberMaster//Event Calendar 2.0//EN
METHOD:PUBLISH
X-PUBLISHED-TTL:P3D
REFRESH-INTERVAL:P3D
CALSCALE:GREGORIAN
BEGIN:VEVENT
DTSTART:20130515T020000Z
DTEND:20130515T040000Z
X-MICROSOFT-CDO-ALLDAYEVENT:FALSE
SUMMARY:Band & Choir Concert
DESCRIPTION:Band & Choir Concert (grades7-12)  "Back To Broadway".  Students will play and sing 13 songs from Broadway musicals.
X-ALT-DESC;FMTTYPE=text/html:Band &amp\; Choir Concert (grades7-12)&nbsp\; &quot\;Back To Broadway&quot\;.&nbsp\; Students will play and sing 13 songs from Broadway musicals.
LOCATION:Joseph charter School cafeteria stage
UID:e.1631.4140
SEQUENCE:3
DTSTAMP:20260419T170930Z
URL:https://business.wallowacountychamber.com/events/details/band-choir-concert-05-14-2013-4140
END:VEVENT

END:VCALENDAR
