BEGIN:VCALENDAR
VERSION:2.0
PRODID:-//ChamberMaster//Event Calendar 2.0//EN
METHOD:PUBLISH
X-PUBLISHED-TTL:P3D
REFRESH-INTERVAL:P3D
CALSCALE:GREGORIAN
BEGIN:VEVENT
DTSTART:20260509T160000Z
DTEND:20260509T203000Z
X-MICROSOFT-CDO-ALLDAYEVENT:FALSE
SUMMARY:Backcountry Stock Handling & Safety Training
DESCRIPTION:Join us for a hands-on class on Backcountry Stock use and safety. This training will focus on safely packing and carrying saws and other tools and equipment for backcountry trips. Jim Akenson will be leading the training\, bringing decades of experience packing\, working\, and living in the wilderness.\n\nBring a lunch\, outdoor gear\, and gloves. All ages welcome. Bringing your own stock is optional.\n\nVisit https://www.wmhcta.org/upcomingtrainings to register for this class\, or email info@wmhcta.org for more information.
X-ALT-DESC;FMTTYPE=text/html:<div class="xdj266r x14z9mp xat24cr x1lziwak x1vvkbs" style="margin-inline: 0px\; overflow-wrap: break-word\; margin-bottom: 0px\; margin-top: 0px\; animation-name: none !important\; transition-property: none !important\; font-family: &quot\;Segoe UI Historic&quot\;\, &quot\;Segoe UI&quot\;\, Helvetica\, Arial\, sans-serif\; color: rgb(8\, 8\, 9)\; font-size: 15px\; font-style: normal\; font-variant-ligatures: normal\; font-variant-caps: normal\; font-weight: 400\; letter-spacing: normal\; orphans: 2\; text-align: start\; text-indent: 0px\; text-transform: none\; widows: 2\; word-spacing: 0px\; -webkit-text-stroke-width: 0px\; white-space: normal\; background-color: rgb(255\, 255\, 255)\; text-decoration-thickness: initial\; text-decoration-style: initial\; text-decoration-color: initial\;">Join us for a hands-on class on Backcountry Stock use and safety. This training will focus on safely packing and carrying saws and other tools and equipment for backcountry trips. Jim Akenson will be leading the training\, bringing decades of experience packing\, working\, and living in the wilderness.</div>\n\n<div class="x14z9mp xat24cr x1lziwak x1vvkbs xtlvy1s" style="margin-inline: 0px\; overflow-wrap: break-word\; margin-bottom: 0px\; margin-top: 0.5em\; animation-name: none !important\; transition-property: none !important\; font-family: &quot\;Segoe UI Historic&quot\;\, &quot\;Segoe UI&quot\;\, Helvetica\, Arial\, sans-serif\; color: rgb(8\, 8\, 9)\; font-size: 15px\; font-style: normal\; font-variant-ligatures: normal\; font-variant-caps: normal\; font-weight: 400\; letter-spacing: normal\; orphans: 2\; text-align: start\; text-indent: 0px\; text-transform: none\; widows: 2\; word-spacing: 0px\; -webkit-text-stroke-width: 0px\; white-space: normal\; background-color: rgb(255\, 255\, 255)\; text-decoration-thickness: initial\; text-decoration-style: initial\; text-decoration-color: initial\;">Bring a lunch\, outdoor gear\, and gloves. All ages welcome. Bringing your own stock is optional.</div>\n\n<div class="x14z9mp xat24cr x1lziwak x1vvkbs xtlvy1s" style="margin-inline: 0px\; overflow-wrap: break-word\; margin-bottom: 0px\; margin-top: 0.5em\; animation-name: none !important\; transition-property: none !important\; font-family: &quot\;Segoe UI Historic&quot\;\, &quot\;Segoe UI&quot\;\, Helvetica\, Arial\, sans-serif\; color: rgb(8\, 8\, 9)\; font-size: 15px\; font-style: normal\; font-variant-ligatures: normal\; font-variant-caps: normal\; font-weight: 400\; letter-spacing: normal\; orphans: 2\; text-align: start\; text-indent: 0px\; text-transform: none\; widows: 2\; word-spacing: 0px\; -webkit-text-stroke-width: 0px\; white-space: normal\; background-color: rgb(255\, 255\, 255)\; text-decoration-thickness: initial\; text-decoration-style: initial\; text-decoration-color: initial\;">Visit<span>&nbsp\;</span><a class="x1i10hfl xjbqb8w x1ejq31n x18oe1m7 x1sy0etr xstzfhl x972fbf x10w94by x1qhh985 x14e42zd x9f619 x1ypdohk xt0psk2 x3ct3a4 xdj266r x14z9mp xat24cr x1lziwak xexx8yu xyri2b x18d9i69 x1c1uobl x16tdsg8 x1hl2dhg xggy1nq x1a2a7pz xkrqix3 x1sur9pj x1fey0fg x1s688f" href="https://www.wmhcta.org/upcomingtrainings?fbclid=IwZXh0bgNhZW0CMTAAYnJpZBExbjZXQmJQQUNpTkdhcGJaRHNydGMGYXBwX2lkEDIyMjAzOTE3ODgyMDA4OTIAAR6YJkDfjZxC1PYUvT8kd6Tlin09z-bfEKW65YzwpQj7zj8fCco_G2Z0DE-nug_aem_Tn4170k22WV-9iplwYykDA" rel="nofollow noreferrer" role="link" style="color: rgb(0\, 100\, 209)\; cursor: pointer\; text-decoration: none\; outline: none\; border-inline-width: 0px\; margin-inline: 0px\; text-align: inherit\; border-inline-style: none\; padding-inline: 0px\; -webkit-tap-highlight-color: transparent\; font-weight: 600\; list-style-type: none\; box-sizing: border-box\; touch-action: manipulation\; background-color: transparent\; display: inline\; padding-bottom: 0px\; border-top-style: none\; border-bottom-width: 0px\; border-bottom-style: none\; border-top-width: 0px\; margin-bottom: 0px\; margin-top: 0px\; padding-top: 0px\; animation-name: none !important\; transition-property: none !important\; font-family: inherit\;" tabindex="0" target="_blank">https://www.wmhcta.org/upcomingtrainings</a><span>&nbsp\;</span>to register for this class\, or email info@wmhcta.org for more information.</div>\n
LOCATION:
UID:e.1631.29396
SEQUENCE:3
DTSTAMP:20260424T185911Z
URL:https://business.wallowacountychamber.com/events/details/backcountry-stock-handling-safety-training-29396
END:VEVENT

END:VCALENDAR
