BEGIN:VCALENDAR
VERSION:2.0
PRODID:-//ChamberMaster//Event Calendar 2.0//EN
METHOD:PUBLISH
X-PUBLISHED-TTL:P3D
REFRESH-INTERVAL:P3D
CALSCALE:GREGORIAN
BEGIN:VEVENT
DTSTART:20130223T030000Z
DTEND:20130224T050000Z
X-MICROSOFT-CDO-ALLDAYEVENT:FALSE
SUMMARY:"Artist's Eye - Collector's Passion"
DESCRIPTION:Opening night for "Artist's Eye - Collector's Passion" collected by Steve Arment begins on February 22 at 7pm.  The opening night celebration will provide an opportunity to meet and talk with Steve Arment and the curating team.  On Saturday Cheryl Couglan\, art historian for the exhibit will also present a walk-around discussion of the exhibit at 2pm\, February 23.
X-ALT-DESC;FMTTYPE=text/html:Opening night for &quot\;Artist&#39\;s Eye - Collector&#39\;s Passion&quot\; collected by Steve Arment begins on February 22 at 7pm.&nbsp\;&nbsp\;The opening night celebration will provide an opportunity to meet and talk with Steve Arment and the curating team.&nbsp\; On Saturday Cheryl Couglan\, art historian for the exhibit will also present a walk-around discussion of the exhibit at 2pm\, February 23.
LOCATION:Josphey Center for Arts & Culture\, 403 N. Main St.\, Joseph
UID:e.1631.1829
SEQUENCE:3
DTSTAMP:20260419T221128Z
URL:https://business.wallowacountychamber.com/events/details/artist-s-eye-collector-s-passion-02-22-2013-1829
END:VEVENT

END:VCALENDAR
