BEGIN:VCALENDAR
VERSION:2.0
PRODID:-//ChamberMaster//Event Calendar 2.0//EN
METHOD:PUBLISH
X-PUBLISHED-TTL:P3D
REFRESH-INTERVAL:P3D
CALSCALE:GREGORIAN
BEGIN:VEVENT
DTSTART:20130426T170000Z
DTEND:20130426T180000Z
X-MICROSOFT-CDO-ALLDAYEVENT:FALSE
SUMMARY:Art Classes for Children
DESCRIPTION:Mary Ambroson will teach drawing to children ages6-10
X-ALT-DESC;FMTTYPE=text/html:Mary Ambroson will teach drawing to children ages6-10
LOCATION:Jospehy Center for Arts & Culture\, 405 N. Main St.\, Joseph
UID:e.1631.3719
SEQUENCE:3
DTSTAMP:20260419T170655Z
URL:https://business.wallowacountychamber.com/events/details/art-classes-for-children-04-26-2013-3719
END:VEVENT

END:VCALENDAR
