BEGIN:VCALENDAR
VERSION:2.0
PRODID:-//ChamberMaster//Event Calendar 2.0//EN
METHOD:PUBLISH
X-PUBLISHED-TTL:P3D
REFRESH-INTERVAL:P3D
CALSCALE:GREGORIAN
BEGIN:VEVENT
DTSTART:20130330T180000Z
DTEND:20130330T230000Z
X-MICROSOFT-CDO-ALLDAYEVENT:FALSE
SUMMARY:Art & Antiques Silent Auction
DESCRIPTION:The silent auction will have paintings\, prints\, antique maps\, a child-size wood cookstove\, and much more! 50% consignment terms\; reserve bids allowed. Folks can bring an item to the Josephy Center for Auction at any time throughout the exhibit show.  Proceeds to benefit the Josephy Center. Stop by and see these unique items! The Silent auction will run from March 30th -  April 21st.  Bids will close at 3:00pm on April 21st.
X-ALT-DESC;FMTTYPE=text/html:<span style="font-family: times new roman\;"><span style="font-size: 11pt\;"><span style="color: black\;">The silent auction will have paintings\, prints\, antique maps\, a child-size wood cookstove\, and much more! 50% consignment terms\; reserve bids allowed. Folks can bring an item to the Josephy Center for Auction at any time throughout the exhibit show.&nbsp\; Proceeds to benefit the Josephy Center. Stop by and see these unique items! The Silent auction will run from March 30th -&nbsp\; April 21st.&nbsp\; Bids will close at 3:00pm on April 21st.</span></span></span><br />\n
LOCATION:Josephy Center for Arts & Culture\, 403 N. Main St.\, Joseph
UID:e.1631.2751
SEQUENCE:3
DTSTAMP:20260419T203203Z
URL:https://business.wallowacountychamber.com/events/details/art-antiques-silent-auction-03-30-2013-2751
END:VEVENT

END:VCALENDAR
