BEGIN:VCALENDAR
VERSION:2.0
PRODID:-//ChamberMaster//Event Calendar 2.0//EN
METHOD:PUBLISH
X-PUBLISHED-TTL:P3D
REFRESH-INTERVAL:P3D
CALSCALE:GREGORIAN
BEGIN:VEVENT
DTSTART:20260509T150000Z
DTEND:20260509T180000Z
X-MICROSOFT-CDO-ALLDAYEVENT:FALSE
SUMMARY:Annual Wallowa Cleanup Day
DESCRIPTION:Tidy your yard for SPRING! You haul for FREE drop-off at he City of Wallowa Shop Yard!
X-ALT-DESC;FMTTYPE=text/html:Tidy your yard for SPRING! You haul for FREE drop-off at he City of Wallowa Shop Yard!
LOCATION:Wallowa
UID:e.1631.29414
SEQUENCE:3
DTSTAMP:20260424T185814Z
URL:https://business.wallowacountychamber.com/events/details/annual-wallowa-cleanup-day-29414
END:VEVENT

END:VCALENDAR
