BEGIN:VCALENDAR
VERSION:2.0
PRODID:-//ChamberMaster//Event Calendar 2.0//EN
METHOD:PUBLISH
X-PUBLISHED-TTL:P3D
REFRESH-INTERVAL:P3D
CALSCALE:GREGORIAN
BEGIN:VEVENT
DTSTART:20130511T220000Z
DTEND:20130512T010000Z
X-MICROSOFT-CDO-ALLDAYEVENT:FALSE
SUMMARY:Annual Pamper Fest at Wolfe Fleece
DESCRIPTION:Annual Pamper Fest at Wolfe Fleece & Clothing Company\, Main Street Joseph! Saturday\, May 11 3:00 pm   6:00 pm\, get pampered while you shop! Enjoy free tips from experts in hair & make-up\, plus massage\, champagne\, chocolate and multiple new shipments of shoes!  Grab your girlfriends and come on down!
X-ALT-DESC;FMTTYPE=text/html:<span style="font-family:verdana\;"><span style="font-size: 14px\;">Annual Pamper Fest at Wolfe Fleece &amp\; Clothing Company\, Main Street Joseph! Saturday\, May 11 3:00 pm &ndash\; 6:00 pm\, get pampered while you shop! Enjoy free tips from experts in hair &amp\; make-up\, plus massage\, champagne\, chocolate and multiple new shipments of shoes!&nbsp\; Grab your girlfriends and come on down!</span></span>
LOCATION:12 S Main St.\, Joseph
UID:e.1631.4136
SEQUENCE:3
DTSTAMP:20260419T162902Z
URL:https://business.wallowacountychamber.com/events/details/annual-pamper-fest-at-wolfe-fleece-05-11-2013-4136
END:VEVENT

END:VCALENDAR
