BEGIN:VCALENDAR
VERSION:2.0
PRODID:-//ChamberMaster//Event Calendar 2.0//EN
METHOD:PUBLISH
X-PUBLISHED-TTL:P3D
REFRESH-INTERVAL:P3D
CALSCALE:GREGORIAN
BEGIN:VEVENT
DTSTART:20130417T190000Z
DTEND:20130418T010000Z
X-MICROSOFT-CDO-ALLDAYEVENT:FALSE
SUMMARY:American Red Cross Blood Drive
DESCRIPTION:The American Red Cross will have their Blood Drive today.  To schedule appointments call Cindi Aschenbrenner or Julie Todd\; 541-263-0101.
X-ALT-DESC;FMTTYPE=text/html:The American Red Cross will have their Blood Drive today.&nbsp\; To schedule appointments call Cindi Aschenbrenner or Julie Todd\; 541-263-0101.
LOCATION:Cloverleaf Hall\, Enterprise
UID:e.1631.3706
SEQUENCE:3
DTSTAMP:20260419T185634Z
URL:https://business.wallowacountychamber.com/events/details/american-red-cross-blood-drive-04-17-2013-3706
END:VEVENT

END:VCALENDAR
