BEGIN:VCALENDAR
VERSION:2.0
PRODID:-//ChamberMaster//Event Calendar 2.0//EN
METHOD:PUBLISH
X-PUBLISHED-TTL:P3D
REFRESH-INTERVAL:P3D
CALSCALE:GREGORIAN
BEGIN:VEVENT
DTSTART:20130518T233000Z
DTEND:20130519T030000Z
X-MICROSOFT-CDO-ALLDAYEVENT:FALSE
SUMMARY:Alpine Meadows Spring Banquet
DESCRIPTION:The Alpine Meadows Golf Course is having their annual Spring Banquet.  Happy Hour begins at 4:30pm with dinner beginning at 6:00pm.
X-ALT-DESC;FMTTYPE=text/html:<span style="font-family:comic sans ms\;"><em><span style="font-size: 16px\;">The Alpine Meadows Golf Course is having their annual Spring Banquet.&nbsp\; Happy Hour begins at 4:30pm with dinner beginning at 6:00pm.</span></em></span>
LOCATION:Alpine Meadows Golf Course Clubhouse 66098 Golf Course Rd.\, Enterprise
UID:e.1631.4194
SEQUENCE:3
DTSTAMP:20260419T152453Z
URL:https://business.wallowacountychamber.com/events/details/alpine-meadows-spring-banquet-05-18-2013-4194
END:VEVENT

END:VCALENDAR
