BEGIN:VCALENDAR
VERSION:2.0
PRODID:-//ChamberMaster//Event Calendar 2.0//EN
METHOD:PUBLISH
X-PUBLISHED-TTL:P3D
REFRESH-INTERVAL:P3D
CALSCALE:GREGORIAN
BEGIN:VEVENT
DTSTART:20130418T010000Z
DTEND:20130418T030000Z
X-MICROSOFT-CDO-ALLDAYEVENT:FALSE
SUMMARY:A Healthy You: The Stress - Anxiety Connection
DESCRIPTION:The presentation will be presented by Theresa Russell and Koreen Sanders on The Stress - Anxiety Connection.
X-ALT-DESC;FMTTYPE=text/html:The presentation will be presented by Theresa Russell and Koreen Sanders on <em><strong>The Stress - Anxiety Connection.&nbsp\; </strong></em>
LOCATION:Olive Branch Family Health\, 306 W. North St.\, Enterprise
UID:e.1631.3424
SEQUENCE:3
DTSTAMP:20260419T172358Z
URL:https://business.wallowacountychamber.com/events/details/a-healthy-you-the-stress-anxiety-connection-04-17-2013-3424
END:VEVENT

END:VCALENDAR
