BEGIN:VCALENDAR
VERSION:2.0
PRODID:-//ChamberMaster//Event Calendar 2.0//EN
METHOD:PUBLISH
X-PUBLISHED-TTL:P3D
REFRESH-INTERVAL:P3D
CALSCALE:GREGORIAN
BEGIN:VEVENT
DTSTART:20130314T013000Z
DTEND:20130314T030000Z
X-MICROSOFT-CDO-ALLDAYEVENT:FALSE
SUMMARY:A City's Center: Rethinking Downtown
DESCRIPTION:Historically\, a city's downtown core has been the community's cultural and economic center\, expressing shared values and aspirations.  Today\, however\, many downtowns represent a community's social and economic distress.  Cities of all sizes are trying to revitalize their downtowns\, but the qualities essential to this revitalization remain elusive.\n\n	 \n\n	This is the focus of "A City's Center: Rethinking Downtown"\, a free conversation with Nan Laurence\, a senior planner for the City of Eugene\, on Wednesday\, March 13th\, 2013 at 6:30PM at Prairie Creek Center (across from Bank of Eastern Oregon).  This program is hosted by GEMS and sponsored by Oregon Humanities. \n\n	 \n\n	Laurence has been a city planner for twenty-five years.  She manages large-scale downtown development efforts and collaborates on arts and culture projects as a senior planner for the City of Eugene.  Laurence has a master of architecture degree from the University of Virginia\, a master of city and regional planning degree from Cornell University\, and a B.A. in anthropology/sociology from Earlham College.\n\n	 \n\n	Through the Conversation  Project\, Oregon Humanities offers free programs that engage community members in thoughtful\, challenging conversations about ideas critical to our daily lives and our state's future.  For more information about this free community discussion\, please contact Mary Swanson at 426-3351 or bookloft@eoni.com
X-ALT-DESC;FMTTYPE=text/html:<div style="color: gray\;">\n	<span style="font-family: arial\, sans-serif\;"><span style="font-size: medium\;">Historically\, a city&rsquo\;s downtown core has been the community&rsquo\;s cultural and economic center\, expressing shared values and aspirations.&nbsp\; Today\, however\, many downtowns represent a community&rsquo\;s social and economic distress.&nbsp\; Cities of all sizes are trying to revitalize their downtowns\, but the qualities essential to this revitalization remain elusive.</span></span><br />\n	&nbsp\;<br />\n	<span style="font-family: arial\, sans-serif\;"><span style="font-size: medium\;">This is the focus of &ldquo\;A City&rsquo\;s Center: Rethinking Downtown&rdquo\;\, a free conversation with Nan Laurence\, a senior planner for the City of Eugene\, on Wednesday\, March 13<sup><span style="font-size: small\;">th</span></sup></span>\, <span style="font-size: 16px\;">2013 at 6:30PM at Prairie Creek Center (across from Bank of Eastern Oregon).&nbsp\; This program is hosted by </span><st1:stockticker w:st="on"></st1:stockticker><st1:stockticker w:st="on"><span style="font-size: 16px\;">GEMS </span></st1:stockticker><span style="font-size: 16px\;">and sponsored by Oregon Humanities. </span></span><br />\n	&nbsp\;<br />\n	<span style="font-family: arial\, sans-serif\;"><span style="font-size: medium\;">Laurence has been a city planner for twenty-five years.&nbsp\; She manages large-scale downtown development efforts and collaborates on arts and culture projects as a senior planner for the City of Eugene.&nbsp\; Laurence has a master of architecture degree from the University of Virginia\, a master of city and regional planning degree from Cornell University\, and a B.A. in anthropology/sociology from Earlham College.</span></span><br />\n	&nbsp\;<br />\n	<span style="font-size: 12pt\;"><span style="font-family: arial\, sans-serif\;">Through the Conversation&nbsp\; Project\, Oregon Humanities offers free programs that engage community members in thoughtful\, challenging conversations about ideas critical to our daily lives and our state&rsquo\;s future.&nbsp\; For more information about this free community discussion\, please contact Mary Swanson at 426-3351 or </span><a href="mailto:bookloft@eoni.com"><span style="color: rgb(0\, 0\, 255)\;">bookloft@eoni.com</span></a></span></div>\n
LOCATION:Prairie Creek Center\, 104 Litch St.\, Enterprise
UID:e.1631.1832
SEQUENCE:3
DTSTAMP:20260419T185525Z
URL:https://business.wallowacountychamber.com/events/details/a-city-s-center-rethinking-downtown-03-13-2013-1832
END:VEVENT

END:VCALENDAR
