BEGIN:VCALENDAR
VERSION:2.0
PRODID:-//ChamberMaster//Event Calendar 2.0//EN
METHOD:PUBLISH
X-PUBLISHED-TTL:P3D
REFRESH-INTERVAL:P3D
CALSCALE:GREGORIAN
BEGIN:VEVENT
DTSTART;VALUE=DATE:20130628
DTEND;VALUE=DATE:20130630
TRANSP:TRANSPARENT
X-MICROSOFT-CDO-ALLDAYEVENT:TRUE
SUMMARY:6th Annual Countdown to Chief Joseph Days Rodeo
DESCRIPTION:The 6th Annual Countdown to CJD Rodeo is hosted by a committee of the CJD Rodeo.  The fun begins on Friday at 2pm with a ride to the top of the moraine\, from the Harley Tucker Arena.  Later that evening\, there will be a social hour at 5pm and a beef dinner will be served in the Thunderroom at 6pm.  Following dinner there will be the team auction.  Each team will be auctioned in a Calcutta an the top three teams will receive 75% of the money.\n\n\n\nThe rodeo on Saturday\, is open to cowboys & cowgirls.  The teams will ride through Joseph at 3:30 pm.  Mutton busting for the kids starts at the Harley Tucker Arena at 4:30pm.  The rodeo will begin at 5:00pm. This event will raise money for scholarships to local high school seniors.  Come root for your favorite Wallowa County ranch as they compete for cash and bragging rights.  To sign up for the team competition or the bronc riding\, call Robin Lewis at 541-432-5943.  To sponsor the rodeo\, call Darlene Turner at 541-432-4741.
X-ALT-DESC;FMTTYPE=text/html:The 6th Annual Countdown to CJD Rodeo is hosted by a committee of the CJD Rodeo.&nbsp\; The fun begins on Friday at 2pm with a ride to the top of the moraine\, from the Harley Tucker Arena.&nbsp\; Later that evening\, there will be a social hour at 5pm and a beef dinner will be served in the Thunderroom at 6pm.&nbsp\; Following dinner there will be the team auction.&nbsp\; Each team will be auctioned in a Calcutta an the top three teams will receive 75% of the money.<br />\n<br />\nThe rodeo on Saturday\, is open to cowboys &amp\; cowgirls.&nbsp\; The teams will ride through Joseph at 3:30 pm.&nbsp\; Mutton busting for the kids starts at the Harley Tucker Arena at 4:30pm.&nbsp\; The rodeo will begin at 5:00pm. This event will raise money for scholarships to local high school seniors.&nbsp\; Come root for your favorite Wallowa County ranch as they compete for cash and bragging rights.&nbsp\; To sign up for the team competition or the bronc riding\, call Robin Lewis at 541-432-5943.&nbsp\; To sponsor the rodeo\, call Darlene Turner at 541-432-4741.
LOCATION:Harley Tucker Arena\, Joseph
UID:e.1631.4299
SEQUENCE:3
DTSTAMP:20260419T135319Z
URL:https://business.wallowacountychamber.com/events/details/6th-annual-countdown-to-chief-joseph-days-rodeo-06-28-2013-4299
END:VEVENT

END:VCALENDAR
