BEGIN:VCALENDAR
VERSION:2.0
PRODID:-//ChamberMaster//Event Calendar 2.0//EN
METHOD:PUBLISH
X-PUBLISHED-TTL:P3D
REFRESH-INTERVAL:P3D
CALSCALE:GREGORIAN
BEGIN:VEVENT
DTSTART:20130402T013000Z
DTEND:20130402T030000Z
X-MICROSOFT-CDO-ALLDAYEVENT:FALSE
SUMMARY:40 Something Cowgirls Chapter Meeting
DESCRIPTION:New Riding Club to Wallowa County offered by Dun the Right Way Horses - 40 Something Cowgirls Chapter will have its first meeting.
X-ALT-DESC;FMTTYPE=text/html:New Riding Club to Wallowa County offered by Dun the Right Way Horses - 40 Something Cowgirls Chapter will have its first meeting.
LOCATION:Community Connection\, 702 NW 1st St.\, Enterprise
UID:e.1631.2747
SEQUENCE:3
DTSTAMP:20260419T185801Z
URL:https://business.wallowacountychamber.com/events/details/40-something-cowgirls-chapter-meeting-04-01-2013-2747
END:VEVENT

END:VCALENDAR
