BEGIN:VCALENDAR
VERSION:2.0
PRODID:-//ChamberMaster//Event Calendar 2.0//EN
METHOD:PUBLISH
X-PUBLISHED-TTL:P3D
REFRESH-INTERVAL:P3D
CALSCALE:GREGORIAN
BEGIN:VEVENT
DTSTART:20130511T170000Z
DTEND:20130511T210000Z
X-MICROSOFT-CDO-ALLDAYEVENT:FALSE
SUMMARY:4-H And Dressage Club Tack Sale
DESCRIPTION:The 4-H and Dressage Club will have a tack sale today at the Wallowa County Grain Growers parking lot.  Leave items to sell for commission or to donate from 9:00-10:00am.  Fundraising project of local dressage club and Nez Perce Riders.
X-ALT-DESC;FMTTYPE=text/html:The 4-H and Dressage Club will have a tack sale today at the Wallowa County Grain Growers parking lot.&nbsp\; Leave items to sell for commission or to donate from 9:00-10:00am.&nbsp\; Fundraising project of local dressage club and Nez Perce Riders.&nbsp\; 
LOCATION:Parking Lot at Wallowa County Grain Growers\, 911 S. River St.\, Enterprise
UID:e.1631.4137
SEQUENCE:3
DTSTAMP:20260419T154758Z
URL:https://business.wallowacountychamber.com/events/details/4-h-and-dressage-club-tack-sale-05-11-2013-4137
END:VEVENT

END:VCALENDAR
