BEGIN:VCALENDAR
VERSION:2.0
PRODID:-//ChamberMaster//Event Calendar 2.0//EN
METHOD:PUBLISH
X-PUBLISHED-TTL:P3D
REFRESH-INTERVAL:P3D
CALSCALE:GREGORIAN
BEGIN:VEVENT
DTSTART;VALUE=DATE:20130607
DTEND;VALUE=DATE:20130609
TRANSP:TRANSPARENT
X-MICROSOFT-CDO-ALLDAYEVENT:TRUE
SUMMARY:25th Annual Oregon Mountain Cruise (Car Show)
DESCRIPTION:Over 250 classic\, antique\, hot rods and custom cars on main street in Joseph. Events include: show-n-shine\, music\, dinner and driver thru Enterprise & Joseph.
X-ALT-DESC;FMTTYPE=text/html:Over 250 classic\, antique\, hot rods and custom cars on main street in Joseph. Events include: show-n-shine\, music\, dinner and driver thru Enterprise &amp\; Joseph.
LOCATION:Along the Main Street of Joseph.
UID:e.1631.54
SEQUENCE:3
DTSTAMP:20260419T153427Z
URL:https://business.wallowacountychamber.com/events/details/25th-annual-oregon-mountain-cruise-car-show-06-07-2013-54
END:VEVENT

END:VCALENDAR
